BEGIN:VCALENDAR
VERSION:2.0
PRODID:-//Pirnaer Ruderverein - ECPv5.16.1.1//NONSGML v1.0//EN
CALSCALE:GREGORIAN
METHOD:PUBLISH
X-WR-CALNAME:Pirnaer Ruderverein
X-ORIGINAL-URL:https://www.pirnaer-ruderverein.de
X-WR-CALDESC:Veranstaltungen für Pirnaer Ruderverein
BEGIN:VTIMEZONE
TZID:Europe/Berlin
BEGIN:DAYLIGHT
TZOFFSETFROM:+0100
TZOFFSETTO:+0200
TZNAME:CEST
DTSTART:20250330T010000
END:DAYLIGHT
BEGIN:STANDARD
TZOFFSETFROM:+0200
TZOFFSETTO:+0100
TZNAME:CET
DTSTART:20251026T010000
END:STANDARD
END:VTIMEZONE
BEGIN:VEVENT
DTSTART;TZID=Europe/Berlin:20250305T183000
DTEND;TZID=Europe/Berlin:20250305T203000
DTSTAMP:20260420T130639
CREATED:20250108T141056Z
LAST-MODIFIED:20250108T141056Z
UID:10440-1741199400-1741206600@www.pirnaer-ruderverein.de
SUMMARY:Mitgliederversammlung
DESCRIPTION:
URL:https://www.pirnaer-ruderverein.de/event/mitgliederversammlung-6/
LOCATION:Bootshaus Pirna\, An der Elbe 11\, Pirna\, Sachsen\, 01796\, Deutschland
END:VEVENT
END:VCALENDAR