BEGIN:VCALENDAR
VERSION:2.0
PRODID:-//Pirnaer Ruderverein - ECPv5.16.1.1//NONSGML v1.0//EN
CALSCALE:GREGORIAN
METHOD:PUBLISH
X-WR-CALNAME:Pirnaer Ruderverein
X-ORIGINAL-URL:https://www.pirnaer-ruderverein.de
X-WR-CALDESC:Veranstaltungen für Pirnaer Ruderverein
BEGIN:VTIMEZONE
TZID:Europe/Berlin
BEGIN:DAYLIGHT
TZOFFSETFROM:+0100
TZOFFSETTO:+0200
TZNAME:CEST
DTSTART:20220327T010000
END:DAYLIGHT
BEGIN:STANDARD
TZOFFSETFROM:+0200
TZOFFSETTO:+0100
TZNAME:CET
DTSTART:20221030T010000
END:STANDARD
END:VTIMEZONE
BEGIN:VEVENT
DTSTART;VALUE=DATE:20220707
DTEND;VALUE=DATE:20220711
DTSTAMP:20260421T181715
CREATED:20220224T175057Z
LAST-MODIFIED:20220224T175057Z
UID:6134-1657152000-1657497599@www.pirnaer-ruderverein.de
SUMMARY:Bundeswettbewerb bis 14 Jahre
DESCRIPTION:
URL:https://www.pirnaer-ruderverein.de/event/bundeswettbewerb-bis-14-jahre/
END:VEVENT
END:VCALENDAR