BEGIN:VCALENDAR
VERSION:2.0
PRODID:-//Pirnaer Ruderverein - ECPv5.16.1.1//NONSGML v1.0//EN
CALSCALE:GREGORIAN
METHOD:PUBLISH
X-WR-CALNAME:Pirnaer Ruderverein
X-ORIGINAL-URL:https://www.pirnaer-ruderverein.de
X-WR-CALDESC:Veranstaltungen für Pirnaer Ruderverein
BEGIN:VTIMEZONE
TZID:Europe/Berlin
BEGIN:DAYLIGHT
TZOFFSETFROM:+0100
TZOFFSETTO:+0200
TZNAME:CEST
DTSTART:20250330T010000
END:DAYLIGHT
BEGIN:STANDARD
TZOFFSETFROM:+0200
TZOFFSETTO:+0100
TZNAME:CET
DTSTART:20251026T010000
END:STANDARD
END:VTIMEZONE
BEGIN:VEVENT
DTSTART;VALUE=DATE:20251122
DTEND;VALUE=DATE:20251123
DTSTAMP:20260421T112458
CREATED:20250313T170627Z
LAST-MODIFIED:20250313T170627Z
UID:10666-1763769600-1763855999@www.pirnaer-ruderverein.de
SUMMARY:Ausflug zum Lasertag
DESCRIPTION:
URL:https://www.pirnaer-ruderverein.de/event/ausflug-zum-lasertag/
LOCATION:Pirna
CATEGORIES:Jugend
END:VEVENT
END:VCALENDAR